BEGIN:VCALENDAR
VERSION:2.0
PRODID:-//Familias en la Nube - ECPv6.15.20//NONSGML v1.0//EN
CALSCALE:GREGORIAN
METHOD:PUBLISH
X-ORIGINAL-URL:https://familiasenlanube.org
X-WR-CALDESC:Eventos para Familias en la Nube
REFRESH-INTERVAL;VALUE=DURATION:PT1H
X-Robots-Tag:noindex
X-PUBLISHED-TTL:PT1H
BEGIN:VTIMEZONE
TZID:Europe/Madrid
BEGIN:DAYLIGHT
TZOFFSETFROM:+0100
TZOFFSETTO:+0200
TZNAME:CEST
DTSTART:20160327T010000
END:DAYLIGHT
BEGIN:STANDARD
TZOFFSETFROM:+0200
TZOFFSETTO:+0100
TZNAME:CET
DTSTART:20161030T010000
END:STANDARD
BEGIN:DAYLIGHT
TZOFFSETFROM:+0100
TZOFFSETTO:+0200
TZNAME:CEST
DTSTART:20170326T010000
END:DAYLIGHT
BEGIN:STANDARD
TZOFFSETFROM:+0200
TZOFFSETTO:+0100
TZNAME:CET
DTSTART:20171029T010000
END:STANDARD
BEGIN:DAYLIGHT
TZOFFSETFROM:+0100
TZOFFSETTO:+0200
TZNAME:CEST
DTSTART:20180325T010000
END:DAYLIGHT
BEGIN:STANDARD
TZOFFSETFROM:+0200
TZOFFSETTO:+0100
TZNAME:CET
DTSTART:20181028T010000
END:STANDARD
BEGIN:DAYLIGHT
TZOFFSETFROM:+0100
TZOFFSETTO:+0200
TZNAME:CEST
DTSTART:20190331T010000
END:DAYLIGHT
BEGIN:STANDARD
TZOFFSETFROM:+0200
TZOFFSETTO:+0100
TZNAME:CET
DTSTART:20191027T010000
END:STANDARD
END:VTIMEZONE
BEGIN:VEVENT
DTSTART;TZID=Europe/Madrid:20180221T180000
DTEND;TZID=Europe/Madrid:20180221T200000
DTSTAMP:20260419T163347
CREATED:20171218T122010Z
LAST-MODIFIED:20180208T174645Z
UID:12950-1519236000-1519243200@familiasenlanube.org
SUMMARY:El semáforo inteligente como herramienta educativa
DESCRIPTION:Conferencia en Segovia\, en el Instituto Mariano Quintanilla. Hablaremos del semáforo inteligente\, y de sus habilidades parentales positivas: decir No\, negociar y traspasar responsabilidades.
URL:https://familiasenlanube.org/evento/semaforo-inteligente-herramienta-educativa/
LOCATION:Instituto Mariano Quintanilla\, Segovia\, Segovia\, España
CATEGORIES:Convivencia familiar,Escuela de Familias,parentalidad positiva,Taller educativo
ATTACH;FMTTYPE=image/jpeg:https://familiasenlanube.org/wp-content/uploads/2017/10/tim-gouw-128115-e1540728728179.jpg
END:VEVENT
BEGIN:VEVENT
DTSTART;TZID=Europe/Madrid:20180215T173000
DTEND;TZID=Europe/Madrid:20180215T190000
DTSTAMP:20260419T163347
CREATED:20180208T175838Z
LAST-MODIFIED:20180208T182430Z
UID:13115-1518715800-1518721200@familiasenlanube.org
SUMMARY:Resolución positiva de conflictos cotidianos en la familia
DESCRIPTION:Conferencia en Marchena\, SEVILLA\, de la mano de FLAMA y CONFEDAMPA. Hablaremos del semáforo inteligente\, como una herramienta para gestionar los conflictos cotidianos y aprovecharlos para fortalecer la responsabilidad y la felicidad de nuestros hijos e hijas.
URL:https://familiasenlanube.org/evento/resolucion-positiva-conflictos-cotidianos-la-familia-5/
LOCATION:Marchena\, Sala Carrera\, Sevilla
CATEGORIES:Convivencia familiar,Escuela de Familias,parentalidad positiva,Taller educativo
ATTACH;FMTTYPE=image/jpeg:https://familiasenlanube.org/wp-content/uploads/2017/05/manos2.jpg
END:VEVENT
BEGIN:VEVENT
DTSTART;TZID=Europe/Madrid:20180212T170000
DTEND;TZID=Europe/Madrid:20180212T190000
DTSTAMP:20260419T163347
CREATED:20171218T122623Z
LAST-MODIFIED:20171218T122623Z
UID:12954-1518454800-1518462000@familiasenlanube.org
SUMMARY:Autocontrol y Tolerancia a la frustración en los hijos
DESCRIPTION:Tercera vez que acudimos al Colegio Arturo Soria\, esta vez abordaremos diferentes pautas para ayudar a nuestros hijos e hijas a manejar mejor la tolerancia a la frustración y fortalecer su autocontrol.
URL:https://familiasenlanube.org/evento/autocontrol-tolerancia-la-frustracion-los-hijos/
LOCATION:Colegio Arturo Soria\, Calle Duque De Tamames\, Madrid\, Comunidad de Madrid\, 28043\, España
CATEGORIES:Convivencia familiar,Escuela de Familias,parentalidad positiva,Taller educativo
ATTACH;FMTTYPE=image/jpeg:https://familiasenlanube.org/wp-content/uploads/2017/09/jason-rosewell-60014-e1506859473261.jpg
END:VEVENT
BEGIN:VEVENT
DTSTART;TZID=Europe/Madrid:20180125T180000
DTEND;TZID=Europe/Madrid:20180125T200000
DTSTAMP:20260419T163347
CREATED:20171218T120931Z
LAST-MODIFIED:20171218T121140Z
UID:12944-1516903200-1516910400@familiasenlanube.org
SUMMARY:Familias inteligentes: claves prácticas para educar
DESCRIPTION:Visitaremos por primera la vez la provincia guipuzcoana\, en concreto\, en la Ikastola Uzturpe. Daremos claves prácticas para educar en positivo\, gestionando de manera más inteligente los conflictos cotidianos familiares.
URL:https://familiasenlanube.org/evento/familais-inteligentes-claves-practicas-educar/
LOCATION:Uzturpe Ikastola\, Uzturpe\, Guipuzcoa\, España
CATEGORIES:Convivencia familiar,Escuela de Familias,parentalidad positiva,Taller educativo
ATTACH;FMTTYPE=image/png:https://familiasenlanube.org/wp-content/uploads/2017/10/daiga-ellaby-233073.png
END:VEVENT
BEGIN:VEVENT
DTSTART;TZID=Europe/Madrid:20171215T120000
DTEND;TZID=Europe/Madrid:20171215T133000
DTSTAMP:20260419T163347
CREATED:20171010T090959Z
LAST-MODIFIED:20171112T173537Z
UID:12577-1513339200-1513344600@familiasenlanube.org
SUMMARY:Familias Inteligentes en empresas saludables
DESCRIPTION:Conciliar la vida familiar y laboral es un reto que muchas empresas\, como Mutualia\, pretenden conseguir. De la mano de Acción Familiar de Euskadi\, trabajaremos el semáforo inteligente. Ultima sesión de la Escuela de Familias.
URL:https://familiasenlanube.org/evento/familias-inteligentes-empresas-saludables-5/
LOCATION:Vitoria (Sede de Mutualia)\, Avenida Beato Tomás de Zumárraga\, 10\, Vitoria-Gasteiz\, Araba\, 01008\, España
CATEGORIES:Convivencia familiar,Escuela de Familias,parentalidad positiva,Taller educativo
ATTACH;FMTTYPE=image/jpeg:https://familiasenlanube.org/wp-content/uploads/2017/10/53f1bcba-e760-4324-990e-05770a81047f-1.jpg
END:VEVENT
BEGIN:VEVENT
DTSTART;TZID=Europe/Madrid:20171213T093000
DTEND;TZID=Europe/Madrid:20171213T110000
DTSTAMP:20260419T163347
CREATED:20171010T085535Z
LAST-MODIFIED:20171112T173035Z
UID:12573-1513157400-1513162800@familiasenlanube.org
SUMMARY:Familias Inteligentes en empresas saludables
DESCRIPTION:Conciliar la vida laboral y familiar es el gran reto de bastantes empresas\, como Euskaltel. Gracias a  Acción Familiar de Euskadi expondremos el semáforo inteligente a los empleados y empleadas de Euskaltel. Ultima sesión de la Escuela de Familias.
URL:https://familiasenlanube.org/evento/familias-inteligentes-empresas-saludables-4/
LOCATION:Euskaltel Bilbao\, Lugar Barrio Arteaga\, 39\, Arteaga Derio\, Vizcaya\, 48160\, España
CATEGORIES:Escuela de Familias,parentalidad positiva,Taller educativo
ATTACH;FMTTYPE=image/jpeg:https://familiasenlanube.org/wp-content/uploads/2017/10/logo-vector-euskaltel.jpg
END:VEVENT
BEGIN:VEVENT
DTSTART;TZID=Europe/Madrid:20171204T093000
DTEND;TZID=Europe/Madrid:20171204T110000
DTSTAMP:20260419T163347
CREATED:20171201T102511Z
LAST-MODIFIED:20171201T102819Z
UID:12849-1512379800-1512385200@familiasenlanube.org
SUMMARY:Convivencia y participación: familias en la nube
DESCRIPTION:El Ayuntamiento de Santa Lucía en Las Palmas de Gran Canaria ha invitado a Familias en la Nube a exponer su proyecto a las AMPAS del municipio
URL:https://familiasenlanube.org/evento/convivencia-participacion-familias-la-nube/
LOCATION:Teatro Victor Jara\, Santa Lucia\, Las Palmas de Gran Canaria\, España
CATEGORIES:Convivencia familiar,Escuela de Familias,parentalidad positiva
ATTACH;FMTTYPE=image/jpeg:https://familiasenlanube.org/wp-content/uploads/2017/12/Jornadas-Educacion-AMPAs2.jpg
END:VEVENT
BEGIN:VEVENT
DTSTART;TZID=Europe/Madrid:20171123T183000
DTEND;TZID=Europe/Madrid:20171123T200000
DTSTAMP:20260419T163347
CREATED:20171112T180836Z
LAST-MODIFIED:20171120T132542Z
UID:12760-1511461800-1511467200@familiasenlanube.org
SUMMARY:Parentalidad positiva en familia
DESCRIPTION:Colaboración de Familias en la Nube con la FAD\,  subvencionados por el Ministerio de Sanidad y Asuntos Sociales. Una conferencia dentro de este ciclo donde plantearemos una aplicación práctica de parentalidad positiva: la técnica del semáforo inteligente.
URL:https://familiasenlanube.org/evento/parentalidad-positiva-famiia/
LOCATION:Fundación de Ayuda contra la Drogadicción\, Madrid\, Madrid\, España
CATEGORIES:Convivencia familiar,Escuela de Familias,parentalidad positiva,Taller educativo
ATTACH;FMTTYPE=image/jpeg:https://familiasenlanube.org/wp-content/uploads/2017/11/conferencias_p_fadfam_nov2017.jpg
END:VEVENT
BEGIN:VEVENT
DTSTART;TZID=Europe/Madrid:20171122T093000
DTEND;TZID=Europe/Madrid:20171122T110000
DTSTAMP:20260419T163347
CREATED:20171112T175815Z
LAST-MODIFIED:20171112T175815Z
UID:12752-1511343000-1511348400@familiasenlanube.org
SUMMARY:Familias Inteligentes: resolución positiva de conflictos cotidianos
DESCRIPTION:En el colegio Dulce Chacón de Fuenlabrada se impartirá una charla basada en la técnica del semáforo inteligente para la resolución positiva de conflictos. Entrada libre y gratuita.
URL:https://familiasenlanube.org/evento/familias-inteligentes-resolucion-positiva-conflictos-cotidianos/
LOCATION:Colegio Dulce Chacon\, Fuenlabrada\, Madrid\, España
CATEGORIES:Convivencia familiar,Escuela de Familias,parentalidad positiva,Taller educativo
ATTACH;FMTTYPE=image/jpeg:https://familiasenlanube.org/wp-content/uploads/2017/11/WhatsApp-Image-2017-11-09-at-21.25.01.jpeg
END:VEVENT
BEGIN:VEVENT
DTSTART;TZID=Europe/Madrid:20171120T170000
DTEND;TZID=Europe/Madrid:20171120T170000
DTSTAMP:20260419T163347
CREATED:20171012T104624Z
LAST-MODIFIED:20180929T085919Z
UID:12596-1511197200-1511197200@familiasenlanube.org
SUMMARY:Resolución positiva de conflictos cotidianos en la familia
DESCRIPTION:En el Colegio Arturo Soria\, abordaremos las habilidades parentales necesarias para aprovechar los conflictos para fomentar la responsabilidad y la felicidad de los hijos e hijas.
URL:https://familiasenlanube.org/evento/resolucion-positiva-conflictos-cotidianos-la-familia-2/
LOCATION:Colegio Arturo Soria\, Calle Duque De Tamames\, Madrid\, Comunidad de Madrid\, 28043\, España
CATEGORIES:Convivencia familiar,Escuela de Familias,parentalidad positiva,Taller educativo
ATTACH;FMTTYPE=image/jpeg:https://familiasenlanube.org/wp-content/uploads/2017/05/fn37.jpg
END:VEVENT
BEGIN:VEVENT
DTSTART;TZID=Europe/Madrid:20171110T080000
DTEND;TZID=Europe/Madrid:20171110T170000
DTSTAMP:20260419T163347
CREATED:20171021T161214Z
LAST-MODIFIED:20171021T161214Z
UID:12642-1510300800-1510333200@familiasenlanube.org
SUMMARY:Curso para familias en Alpedrete
DESCRIPTION:Antonio Ortuño impartirá un curso en Alpedrete para padres y madres orientado a pautas de parentalidad positiva.
URL:https://familiasenlanube.org/evento/curso-familias-alpedrete/
LOCATION:Colegio Público El Peralejo\, Calle de Sta. Quiteria\, 28\, Alpedrete\, Madrid\, 28430\, España
ATTACH;FMTTYPE=image/jpeg:https://familiasenlanube.org/wp-content/uploads/2017/02/conferencias-sobre-temas-de-familia-1.jpg
END:VEVENT
BEGIN:VEVENT
DTSTART;TZID=Europe/Madrid:20171106T180000
DTEND;TZID=Europe/Madrid:20171106T200000
DTSTAMP:20260419T163347
CREATED:20171012T105240Z
LAST-MODIFIED:20171012T105415Z
UID:12600-1509991200-1509998400@familiasenlanube.org
SUMMARY:Resolución positiva de conflictos cotidianos en la familia
DESCRIPTION:El Programa de Familias del Ayuntamiento de Coria nos invita a dar una conferencia  donde explicaremos el semáforo inteligente como herramienta efectiva para la resolución positiva de conflictos cotidianos en la familia.
URL:https://familiasenlanube.org/evento/resolucion-positiva-conflictos-cotidianos-la-familia-3/
LOCATION:Ayuntamiento de Coria\, Plaza San Pedro\, 1\, Coria\, Cáceres\, 10800
CATEGORIES:Convivencia familiar,Escuela de Familias,parentalidad positiva
ATTACH;FMTTYPE=image/png:https://familiasenlanube.org/wp-content/uploads/2017/03/resolucion-positiva-de-conflictos.png
END:VEVENT
BEGIN:VEVENT
DTSTART;TZID=Europe/Madrid:20171104T110000
DTEND;TZID=Europe/Madrid:20171104T123000
DTSTAMP:20260419T163347
CREATED:20171022T171917Z
LAST-MODIFIED:20171022T171917Z
UID:12658-1509793200-1509798600@familiasenlanube.org
SUMMARY:Familias Inteligentes: claves prácticas para educar
DESCRIPTION:En colaboración con FAPACE\, realizaremos diferentes conferencias por la provincia de Almería. En ABLA\, daremos pautas para conocer la herramienta que tan eficiente para gestionar los conflictos cotidianos de una manera positiva: el semáforo inteligente.
URL:https://familiasenlanube.org/evento/familias-inteligentes-claves-practicas-educar-2/
LOCATION:Abla (Almería)\, Abla\, Almería
CATEGORIES:Convivencia familiar,Escuela de Familias,parentalidad positiva,Taller educativo
ATTACH;FMTTYPE=image/jpeg:https://familiasenlanube.org/wp-content/uploads/2017/10/ABLA.jpeg
END:VEVENT
BEGIN:VEVENT
DTSTART;TZID=Europe/Madrid:20171103T180000
DTEND;TZID=Europe/Madrid:20171103T200000
DTSTAMP:20260419T163347
CREATED:20171022T171020Z
LAST-MODIFIED:20171022T171020Z
UID:12654-1509732000-1509739200@familiasenlanube.org
SUMMARY:Familias Inteligentes: claves prácticas para educar
DESCRIPTION:En colaboración con FAPACE\, realizaremos diferentes conferencias por la provincia de Almería. En GADOR\, daremos pautas para conocer la herramienta que tan eficiente para gestionar los conflictos cotidianos de una manera positiva: el semáforo inteligente.
URL:https://familiasenlanube.org/evento/familias-inteligentes-claves-practicas-educar/
LOCATION:Gador\, Gador\, Almería
CATEGORIES:Convivencia familiar,Escuela de Familias,parentalidad positiva,Taller educativo
ATTACH;FMTTYPE=image/jpeg:https://familiasenlanube.org/wp-content/uploads/2017/10/GADOR.jpeg
END:VEVENT
BEGIN:VEVENT
DTSTART;TZID=Europe/Madrid:20171102T190000
DTEND;TZID=Europe/Madrid:20171102T204000
DTSTAMP:20260419T163347
CREATED:20171022T165710Z
LAST-MODIFIED:20171022T165813Z
UID:12648-1509649200-1509655200@familiasenlanube.org
SUMMARY:¿Cómo promover el autocontrol y la tolerancia a la frustración en nuestros hij@s?
DESCRIPTION:En colaboración con FAPACE\, realizaremos diferentes conferencias por la provincia de Almería. En El Ejido\, daremos pautas para ejercer un control externo que favorezca el autocontrol\, además de conocer mejor las reacciones de frustración de nuestros hijos e hijas.
URL:https://familiasenlanube.org/evento/promover-autocontrol-la-tolerancia-la-frustracion-hijs/
LOCATION:El Ejido (Almería)\, El Ejido\, Almería
CATEGORIES:Escuela de Familias,parentalidad positiva,Taller educativo
ATTACH;FMTTYPE=image/jpeg:https://familiasenlanube.org/wp-content/uploads/2017/10/EL-EJIDO.jpeg
END:VEVENT
BEGIN:VEVENT
DTSTART;TZID=Europe/Madrid:20171026T170000
DTEND;TZID=Europe/Madrid:20171026T170000
DTSTAMP:20260419T163347
CREATED:20171012T102003Z
LAST-MODIFIED:20171012T113659Z
UID:12591-1509037200-1509037200@familiasenlanube.org
SUMMARY:Habilidades para educar: resolver conflictos en el día a día de tu hogar
DESCRIPTION:En el Colegio Arcángel vamos a realizar una investigación de los conflictos familiares cotidianos y las habilidades parentales para resolverlos\, a través de las herramientas gratuitas que ofrece Familias en la Nube en su curso habilidades para educar: resolver conflictos en el día a día de tu hogar.
URL:https://familiasenlanube.org/evento/habilidades-educar-resolver-conflictos-dia-dia-hogar/
LOCATION:Colegio Arcángel\, Calle de Ángel Ganivet\, 21\, Madrid\, 28007\, 28007
CATEGORIES:Convivencia familiar,Escuela de Familias,parentalidad positiva,Taller educativo
ATTACH;FMTTYPE=image/jpeg:https://familiasenlanube.org/wp-content/uploads/2017/02/curso-02-nivel-01-familias-en-la-nube-habilidades-para-educar-conflictos-en-casa.jpg
END:VEVENT
BEGIN:VEVENT
DTSTART;TZID=Europe/Madrid:20171023T163000
DTEND;TZID=Europe/Madrid:20171023T163000
DTSTAMP:20260419T163347
CREATED:20171012T100207Z
LAST-MODIFIED:20171012T113913Z
UID:12586-1508776200-1508776200@familiasenlanube.org
SUMMARY:El semáforo inteligente como herramienta para la convivencia
DESCRIPTION:En el IES Isaac Peral de Torrejón explicaremos a toda la comunidad educativa la herramienta del semáforo para mejorar la convivencia familiar y escolar.
URL:https://familiasenlanube.org/evento/semaforo-inteligente-herramienta-la-convivencia/
LOCATION:IES Bilingüe ISAAC PERAL\, Calle de la Plata\, 78\, Torrejón de Ardoz\, Madrid\, 28850
CATEGORIES:Convivencia familiar,parentalidad positiva,Taller educativo
ATTACH;FMTTYPE=image/jpeg:https://familiasenlanube.org/wp-content/uploads/2017/10/tim-gouw-128115-e1540728728179.jpg
END:VEVENT
BEGIN:VEVENT
DTSTART;TZID=Europe/Madrid:20171010T160000
DTEND;TZID=Europe/Madrid:20171010T173000
DTSTAMP:20260419T163347
CREATED:20171009T180043Z
LAST-MODIFIED:20171009T182456Z
UID:12565-1507651200-1507656600@familiasenlanube.org
SUMMARY:Masterclass Familias Inteligentes
DESCRIPTION:En el Hospital Niño Jesús\, con la Escuela Madrileña de Salud\, conferencia donde explicaremos el semáforo inteligente tanto a familias como a profesionales que trabajan con familias.
URL:https://familiasenlanube.org/evento/masterclass-familias-inteligentes/
LOCATION:Hospital Infantil Universitario Niño Jesús\, Av. de Menéndez Pelayo\, 65\, Madrid\, Madrid\, 28009 \, España
CATEGORIES:Convivencia familiar,Escuela de Familias,parentalidad positiva,Taller educativo
ATTACH;FMTTYPE=image/jpeg:https://familiasenlanube.org/wp-content/uploads/2017/10/0001-scaled.jpg
END:VEVENT
BEGIN:VEVENT
DTSTART;TZID=Europe/Madrid:20171009T130000
DTEND;TZID=Europe/Madrid:20171009T150000
DTSTAMP:20260419T163347
CREATED:20170820T113301Z
LAST-MODIFIED:20170820T113702Z
UID:12370-1507554000-1507561200@familiasenlanube.org
SUMMARY:Masterclass para profesionales de la salud sobre parentalidad positiva
DESCRIPTION:La Escuela Madrileña de Salud organiza una serie de conferencias a profesionales (médicos\, psiquiatras\, neurólogas\, enfermeras…). En esta en concreto\, se abordará cómo trabajar con las familias en consulta cuando los motivos de consulta están asociados a problemas de conducta o de gestión inadecuada de os conflictos por parte del mundo adulto\, ofertando un modelo sencillo y eficiente que puede ayudar a las familias a ejercer buenas prácticas educativas.
URL:https://familiasenlanube.org/evento/masterclass-profesionales-la-salud-parentalidad-positiva/
LOCATION:Escuela Nacional de Sanidad\, calle Sinesio Delgado\, 10\, Madrid\, 28029\, España
CATEGORIES:Escuela de Familias,parentalidad positiva,Taller educativo
ATTACH;FMTTYPE=image/jpeg:https://familiasenlanube.org/wp-content/uploads/2017/08/escuela-madrileña-1.jpg
END:VEVENT
BEGIN:VEVENT
DTSTART;TZID=Europe/Madrid:20171002T164500
DTEND;TZID=Europe/Madrid:20171002T184500
DTSTAMP:20260419T163347
CREATED:20170920T161942Z
LAST-MODIFIED:20170929T085109Z
UID:12495-1506962700-1506969900@familiasenlanube.org
SUMMARY:Poner límites de forma respetuosa: Familias Inteligentes
DESCRIPTION:A través de la técnica del semáforo inteligente\, con sus tres habilidades parentales\, se explicarán los procesos educativos adecuados para poner límites de forma respetuosa\, gestionando de forma positiva los conflictos cotidianos en la familia.
URL:https://familiasenlanube.org/evento/poner-limites-forma-respetuosa-familias-inteligentes/
LOCATION:Colegio Marqués de Marcenado\, Madrid
CATEGORIES:Convivencia familiar,Escuela de Familias,parentalidad positiva,Taller educativo
ATTACH;FMTTYPE=image/jpeg:https://familiasenlanube.org/wp-content/uploads/2017/09/marques-de-marcenado.jpg
END:VEVENT
BEGIN:VEVENT
DTSTART;TZID=Europe/Madrid:20170921T090000
DTEND;TZID=Europe/Madrid:20170921T090000
DTSTAMP:20260419T163347
CREATED:20170820T111425Z
LAST-MODIFIED:20170820T111425Z
UID:12365-1505984400-1505984400@familiasenlanube.org
SUMMARY:Cambiando vidas y hábitos desde el hogar
DESCRIPTION:La ONG Si Callas\, permites\, no al maltrato infantil organiza un evento donde estamos invitados a exponer la herramienta para gestionar conflictos de forma positiva y respetuosa: el semáforo inteligente.
URL:https://familiasenlanube.org/evento/cambiando-vidas-habitos-desde-hogar/
LOCATION:Museo de los niños San José Costa Rica\, San Jose\, Costa Rica
CATEGORIES:Convivencia familiar,Escuela de Familias,parentalidad positiva,Taller educativo
ATTACH;FMTTYPE=image/jpeg:https://familiasenlanube.org/wp-content/uploads/2017/08/costa-rica-2-2017.jpg
ORGANIZER;CN="Si callas%2C permites":MAILTO:info@sicallaspermites.org
END:VEVENT
BEGIN:VEVENT
DTSTART;TZID=Europe/Madrid:20170828T180000
DTEND;TZID=Europe/Madrid:20170828T200000
DTSTAMP:20260419T163347
CREATED:20170820T105620Z
LAST-MODIFIED:20180929T085903Z
UID:12356-1503943200-1503950400@familiasenlanube.org
SUMMARY:Presentación de la edición mexicana del libro FAMILIAS INTELIGENTES
DESCRIPTION:Conferencia presentación del libro Familias Inteligentes: claves prácticas para educar. la edición mexicana. Entrada libre y gratuita.
URL:https://familiasenlanube.org/evento/presentacion-la-edicion-mexicana-del-libro-familias-inteligentes/
LOCATION:Edificio Arronte\, Av. Juan de Palafox y Mendoza\, 219\, Puebla\, Puebla\, México
CATEGORIES:Escuela de Familias,parentalidad positiva,Taller educativo
ATTACH;FMTTYPE=image/jpeg:https://familiasenlanube.org/wp-content/uploads/2017/08/puebla-2017.jpg
ORGANIZER;CN="Editorial el rincon del Quijote":MAILTO:editorialrq@gmail.com
END:VEVENT
BEGIN:VEVENT
DTSTART;TZID=Europe/Madrid:20170827T090000
DTEND;TZID=Europe/Madrid:20170827T130000
DTSTAMP:20260419T163347
CREATED:20170820T104253Z
LAST-MODIFIED:20170820T104253Z
UID:12348-1503824400-1503838800@familiasenlanube.org
SUMMARY:Expo Familias Inteligentes en Chihuahua
DESCRIPTION:Participación en el Congreso Familias Inteligentes en México\, donde se expondrá un modelo educativo basado en la resolución positiva de conflictos. además\, se capacitará a 50 profesionales para trabajar a su vez dentro del proyecto Familias en la Nube con una muestra de 1000 familias.
URL:https://familiasenlanube.org/evento/expo-familias-inteligentes-chihuahua/
LOCATION:Museo Semilla Chihuahua México\, Calle Progreso #1201\, Chihuahua\, México
CATEGORIES:Convivencia familiar,Escuela de Familias,parentalidad positiva,Taller educativo
ATTACH;FMTTYPE=image/jpeg:https://familiasenlanube.org/wp-content/uploads/2017/08/chihuahua-2-2017.jpg
END:VEVENT
BEGIN:VEVENT
DTSTART;TZID=Europe/Madrid:20170627T120000
DTEND;TZID=Europe/Madrid:20170627T133000
DTSTAMP:20260419T163347
CREATED:20170524T174218Z
LAST-MODIFIED:20170614T083705Z
UID:11844-1498564800-1498570200@familiasenlanube.org
SUMMARY:Familias inteligentes en empresas saludables
DESCRIPTION:Taller de cuatro sesiones en Mutualia en Vitoria. Conciliación de vida familiar y laboral fomentando buenas prácticas educativas. Segunda sesión.
URL:https://familiasenlanube.org/evento/familias-inteligentes-empresas-saludables/
LOCATION:Mutualia Vitoria\, Vitoria\, Álava
CATEGORIES:Convivencia familiar,Escuela de Familias,parentalidad positiva,Taller educativo
ATTACH;FMTTYPE=image/jpeg:https://familiasenlanube.org/wp-content/uploads/2017/05/fn32.jpg
END:VEVENT
BEGIN:VEVENT
DTSTART;TZID=Europe/Madrid:20170626T123000
DTEND;TZID=Europe/Madrid:20170626T140000
DTSTAMP:20260419T163347
CREATED:20170614T085026Z
LAST-MODIFIED:20170614T084412Z
UID:12067-1498480200-1498485600@familiasenlanube.org
SUMMARY:Familias inteligentes en empresas saludables
DESCRIPTION:Segunda sesión de un taller de cuatro sesiones a lo largo del año sobre parentalidad positiva dentro del programa de conciliación de vida familiar y laboral
URL:https://familiasenlanube.org/evento/familias-inteligentes-empresas-saludables-3/
LOCATION:Mutualia BILBAO\, Bilbao\, Vizcaya
CATEGORIES:Convivencia familiar,Escuela de Familias,parentalidad positiva,Taller educativo
ATTACH;FMTTYPE=image/jpeg:https://familiasenlanube.org/wp-content/uploads/2017/05/fn35.jpg
END:VEVENT
BEGIN:VEVENT
DTSTART;TZID=Europe/Madrid:20170610T100000
DTEND;TZID=Europe/Madrid:20170610T140000
DTSTAMP:20260419T163347
CREATED:20170528T175900Z
LAST-MODIFIED:20170528T175900Z
UID:11922-1497088800-1497103200@familiasenlanube.org
SUMMARY:El semáforo inteligente para profesionales
DESCRIPTION:Taller de cuatro horas donde se expondrán las claves para poner en marcha las diferentes herramientas para mejorar el clima familiar: la brújula de los conflictos\, el cuestionario de habilidades parentales\, el cuaderno de bitácora\, el semáforo inteligente…
URL:https://familiasenlanube.org/evento/semaforo-inteligente-profesionales/
LOCATION:Idealoga\, Paseo Acacias\, 5\, Madrid
CATEGORIES:Taller educativo
ATTACH;FMTTYPE=image/jpeg:https://familiasenlanube.org/wp-content/uploads/2017/05/manos2.jpg
END:VEVENT
BEGIN:VEVENT
DTSTART;TZID=Europe/Madrid:20170605T183000
DTEND;TZID=Europe/Madrid:20170605T200000
DTSTAMP:20260419T163347
CREATED:20170527T082428Z
LAST-MODIFIED:20170527T082734Z
UID:11890-1496687400-1496692800@familiasenlanube.org
SUMMARY:Mindfullness para madres y padres
DESCRIPTION:Recomendaciones y pautas educativas centradas en la psicología positiva y el mindfullnes.
URL:https://familiasenlanube.org/evento/mindfullness-madres-padres/
LOCATION:Instituto Gran Capitán\, Paseo melancólicos 51\, Madrid
CATEGORIES:Convivencia familiar,Escuela de Familias,Taller educativo
ATTACH;FMTTYPE=image/jpeg:https://familiasenlanube.org/wp-content/uploads/2017/05/fn17.jpg
ORGANIZER;CN="Ampa IES Gran Capit%C3%A1n":MAILTO:ampagrancapitan@fapaginerdelosrios.org
END:VEVENT
BEGIN:VEVENT
DTSTART;TZID=Europe/Madrid:20170525T080000
DTEND;TZID=Europe/Madrid:20170525T170000
DTSTAMP:20260419T163347
CREATED:20170526T064546Z
LAST-MODIFIED:20170526T064721Z
UID:11866-1495699200-1495731600@familiasenlanube.org
SUMMARY:Familias inteligentes en empresas saludables
DESCRIPTION:Empezamos un taller de cuatro sesiones en Bilbao\, en la sede de Euskaltel\, donde ya estuvimos el año pasado\, para dotar herramientas para mejorar la interacción personal\, las relaciones sociales\, tanto en el ámbito familiar como en el laboral.
URL:https://familiasenlanube.org/evento/familias-inteligentes-empresas-saludables-2/
LOCATION:Sede de Euskaltel (Bilbao)\, Bilbao\, Vizcaya\, España
ORGANIZER;CN="Familias en la Nube":MAILTO:info@familiasenlanube.org
END:VEVENT
BEGIN:VEVENT
DTSTART;TZID=Europe/Madrid:20170524T120000
DTEND;TZID=Europe/Madrid:20170524T133000
DTSTAMP:20260419T163347
CREATED:20170426T071503Z
LAST-MODIFIED:20170510T154658Z
UID:11686-1495627200-1495632600@familiasenlanube.org
SUMMARY:Resolución positiva de conflictos: conciliar vida familiar y laboral
DESCRIPTION:Empezamos un taller de cuatro sesiones para empleados y empleadas dentro del programa de conciliación de vida laboral y familiar de la empresa MUTUALIA.
URL:https://familiasenlanube.org/evento/resolucion-positiva-conflictos-familiares/
LOCATION:MUTUALIA (Donosti)\, Donosti
CATEGORIES:Escuela de Familias,Taller educativo
ATTACH;FMTTYPE=image/jpeg:https://familiasenlanube.org/wp-content/uploads/2017/04/la-felicidad-responsable-la-responsabilidad-feliz.jpg
END:VEVENT
BEGIN:VEVENT
DTSTART;TZID=Europe/Madrid:20170522T171500
DTEND;TZID=Europe/Madrid:20170522T191500
DTSTAMP:20260419T163347
CREATED:20170430T090534Z
LAST-MODIFIED:20170513T080720Z
UID:11699-1495473300-1495480500@familiasenlanube.org
SUMMARY:Resolución positiva de conflictos en la familia (Parte III)
DESCRIPTION:Resolución positiva de conflictos en la familia
URL:https://familiasenlanube.org/evento/resolucion-positiva-de-conflictos-en-familia/
LOCATION:Colegio San José\, Calle Francisco Laguna\, 21\, Madrid\, Comunidad de Madrid\, 28053\, España
ATTACH;FMTTYPE=image/jpeg:https://familiasenlanube.org/wp-content/uploads/2017/02/taller-de-familias-2.jpg
ORGANIZER;CN="Familias en la Nube":MAILTO:info@familiasenlanube.org
END:VEVENT
END:VCALENDAR